BEGIN:VCALENDAR
VERSION:2.0
PRODID:-//Aslan&#039;s Place - ECPv6.15.20//NONSGML v1.0//EN
CALSCALE:GREGORIAN
METHOD:PUBLISH
X-WR-CALNAME:Aslan&#039;s Place
X-ORIGINAL-URL:https://aslansplace.com
X-WR-CALDESC:Events for Aslan&#039;s Place
REFRESH-INTERVAL;VALUE=DURATION:PT1H
X-Robots-Tag:noindex
X-PUBLISHED-TTL:PT1H
BEGIN:VTIMEZONE
TZID:Pacific/Honolulu
BEGIN:STANDARD
TZOFFSETFROM:-1000
TZOFFSETTO:-1000
TZNAME:HST
DTSTART:20250101T000000
END:STANDARD
END:VTIMEZONE
BEGIN:VEVENT
DTSTART;TZID=Pacific/Honolulu:20260522T200000
DTEND;TZID=Pacific/Honolulu:20260522T220000
DTSTAMP:20260420T164106
CREATED:20260420T215028Z
LAST-MODIFIED:20260420T215101Z
UID:10000679-1779480000-1779487200@aslansplace.com
SUMMARY:Fire and Cloud Online Meeting
DESCRIPTION:The Fire and Cloud Company is a unique online fellowship held via Zoom and hosted by Paul L. Cox and Barbara Kain Parker. These gatherings provide an opportunity to worship together\, receive teaching\, and grow in the Lord. \nEach meeting is Spirit-led and unfolds according to what the Holy Spirit directs. Participants can expect heartfelt prayer\, encouragement\, and the sharing of spiritual gifts\, as well as teaching and revelation that help prepare us for future training and healing centers. These meetings also offer opportunities to build relationships with other Christ-minded people. \nTo accommodate various time zones\, monthly sessions are held on two different days and at different times. \nPlease keep in mind that Hawaii does not observe Daylight Saving Time\, so the start times for your time zone may differ from what they were in November. \n\nHonolulu\, USA meeting start time: Friday 8PM\nBeijing\, China meeting start time: Saturday 2PM\nTokyo\, Japan meeting start time: Saturday 3PM\nSydney\, Australia meeting start time: Saturday 5PM\nLondon\, England meeting start time: Saturday 6AM\nBerlin\, Germany meeting start time: Saturday 7AM\nCape Town\, South Africa meeting start time: Saturday 8AM\nClick here to see start times in additional time zones\n\nActive subscribers are welcome to join either or both sessions. \nParticipation is based on a monthly paid subscription. You may cancel at any time\, though we are unable to provide refunds for partial months. \n \n\n 
URL:https://aslansplace.com/singleevent/fire-and-cloud-online-meeting-052226/
LOCATION:HI
CATEGORIES:Fire and Cloud Company
ORGANIZER;CN="Aslan's Place Ministry":MAILTO:office@aslansplace.com
END:VEVENT
BEGIN:VEVENT
DTSTART;TZID=Pacific/Honolulu:20260523T150000
DTEND;TZID=Pacific/Honolulu:20260523T170000
DTSTAMP:20260420T164106
CREATED:20260420T215915Z
LAST-MODIFIED:20260420T220731Z
UID:10000683-1779548400-1779555600@aslansplace.com
SUMMARY:Fire and Cloud Online Meeting
DESCRIPTION:The Fire and Cloud Company is a unique online fellowship held via Zoom and hosted by Paul L. Cox and Barbara Kain Parker. These gatherings provide an opportunity to worship together\, receive teaching\, and grow in the Lord. \nEach meeting is Spirit-led and unfolds according to what the Holy Spirit directs. Participants can expect heartfelt prayer\, encouragement\, and the sharing of spiritual gifts\, as well as teaching and revelation that help prepare us for future training and healing centers. These meetings also offer opportunities to build relationships with other Christ-minded people. \nTo accommodate various time zones\, monthly sessions are held on two different days and at different times. \n\nHonolulu\, USA meeting start time: Saturday 3PM\nLos Angeles\, USA meeting start time: Saturday 6PM\nNew York\, USA meeting start time: Saturday 9PM\nMexico City\, Mexico meeting start time: Saturday 7PM\nVancouver\, Canada meeting start time: Saturday 6PM\nToronto\, Canada meeting start time: Saturday 9PM\nClick here to see start times in additional time zones\n\nActive subscribers are welcome to join either or both sessions. \nParticipation is based on a monthly paid subscription. You may cancel at any time\, though we are unable to provide refunds for partial months. \n \n\n 
URL:https://aslansplace.com/singleevent/fire-and-cloud-online-meeting-05-23-26/
LOCATION:HI
CATEGORIES:Fire and Cloud Company
ORGANIZER;CN="Aslan's Place Ministry":MAILTO:office@aslansplace.com
END:VEVENT
BEGIN:VEVENT
DTSTART;TZID=Pacific/Honolulu:20260619T200000
DTEND;TZID=Pacific/Honolulu:20260619T220000
DTSTAMP:20260420T164106
CREATED:20260420T215204Z
LAST-MODIFIED:20260420T215317Z
UID:10000680-1781899200-1781906400@aslansplace.com
SUMMARY:Fire and Cloud Online Meeting
DESCRIPTION:The Fire and Cloud Company is a unique online fellowship held via Zoom and hosted by Paul L. Cox and Barbara Kain Parker. These gatherings provide an opportunity to worship together\, receive teaching\, and grow in the Lord. \nEach meeting is Spirit-led and unfolds according to what the Holy Spirit directs. Participants can expect heartfelt prayer\, encouragement\, and the sharing of spiritual gifts\, as well as teaching and revelation that help prepare us for future training and healing centers. These meetings also offer opportunities to build relationships with other Christ-minded people. \nTo accommodate various time zones\, monthly sessions are held on two different days and at different times. \nPlease keep in mind that Hawaii does not observe Daylight Saving Time\, so the start times for your time zone may differ from what they were in November. \n\nHonolulu\, USA meeting start time: Friday 8PM\nBeijing\, China meeting start time: Saturday 2PM\nTokyo\, Japan meeting start time: Saturday 3PM\nSydney\, Australia meeting start time: Saturday 5PM\nLondon\, England meeting start time: Saturday 6AM\nBerlin\, Germany meeting start time: Saturday 7AM\nCape Town\, South Africa meeting start time: Saturday 8AM\nClick here to see start times in additional time zones\n\nActive subscribers are welcome to join either or both sessions. \nParticipation is based on a monthly paid subscription. You may cancel at any time\, though we are unable to provide refunds for partial months. \n \n\n 
URL:https://aslansplace.com/singleevent/fire-and-cloud-online-meeting-061926/
LOCATION:HI
CATEGORIES:Fire and Cloud Company
ORGANIZER;CN="Aslan's Place Ministry":MAILTO:office@aslansplace.com
END:VEVENT
BEGIN:VEVENT
DTSTART;TZID=Pacific/Honolulu:20260620T150000
DTEND;TZID=Pacific/Honolulu:20260620T170000
DTSTAMP:20260420T164106
CREATED:20260420T220143Z
LAST-MODIFIED:20260420T220206Z
UID:10000684-1781967600-1781974800@aslansplace.com
SUMMARY:Fire and Cloud Online Meeting
DESCRIPTION:The Fire and Cloud Company is a unique online fellowship held via Zoom and hosted by Paul L. Cox and Barbara Kain Parker. These gatherings provide an opportunity to worship together\, receive teaching\, and grow in the Lord. \nEach meeting is Spirit-led and unfolds according to what the Holy Spirit directs. Participants can expect heartfelt prayer\, encouragement\, and the sharing of spiritual gifts\, as well as teaching and revelation that help prepare us for future training and healing centers. These meetings also offer opportunities to build relationships with other Christ-minded people. \nTo accommodate various time zones\, monthly sessions are held on two different days and at different times. \n\nHonolulu\, USA meeting start time: Saturday 3PM\nLos Angeles\, USA meeting start time: Saturday 6PM\nNew York\, USA meeting start time: Saturday 9PM\nMexico City\, Mexico meeting start time: Saturday 7PM\nVancouver\, Canada meeting start time: Saturday 6PM\nToronto\, Canada meeting start time: Saturday 9PM\nClick here to see start times in additional time zones\n\nActive subscribers are welcome to join either or both sessions. \nParticipation is based on a monthly paid subscription. You may cancel at any time\, though we are unable to provide refunds for partial months. \n \n\n 
URL:https://aslansplace.com/singleevent/fire-and-cloud-online-meeting-06-20-26/
LOCATION:HI
CATEGORIES:Fire and Cloud Company
ORGANIZER;CN="Aslan's Place Ministry":MAILTO:office@aslansplace.com
END:VEVENT
BEGIN:VEVENT
DTSTART;TZID=Pacific/Honolulu:20260717T200000
DTEND;TZID=Pacific/Honolulu:20260717T220000
DTSTAMP:20260420T164106
CREATED:20260420T215621Z
LAST-MODIFIED:20260420T215646Z
UID:10000681-1784318400-1784325600@aslansplace.com
SUMMARY:Fire and Cloud Online Meeting
DESCRIPTION:The Fire and Cloud Company is a unique online fellowship held via Zoom and hosted by Paul L. Cox and Barbara Kain Parker. These gatherings provide an opportunity to worship together\, receive teaching\, and grow in the Lord. \nEach meeting is Spirit-led and unfolds according to what the Holy Spirit directs. Participants can expect heartfelt prayer\, encouragement\, and the sharing of spiritual gifts\, as well as teaching and revelation that help prepare us for future training and healing centers. These meetings also offer opportunities to build relationships with other Christ-minded people. \nTo accommodate various time zones\, monthly sessions are held on two different days and at different times. \nPlease keep in mind that Hawaii does not observe Daylight Saving Time\, so the start times for your time zone may differ from what they were in November. \n\nHonolulu\, USA meeting start time: Friday 8PM\nBeijing\, China meeting start time: Saturday 2PM\nTokyo\, Japan meeting start time: Saturday 3PM\nSydney\, Australia meeting start time: Saturday 5PM\nLondon\, England meeting start time: Saturday 6AM\nBerlin\, Germany meeting start time: Saturday 7AM\nCape Town\, South Africa meeting start time: Saturday 8AM\nClick here to see start times in additional time zones\n\nActive subscribers are welcome to join either or both sessions. \nParticipation is based on a monthly paid subscription. You may cancel at any time\, though we are unable to provide refunds for partial months. \n \n\n 
URL:https://aslansplace.com/singleevent/fire-and-cloud-online-meeting-071726/
LOCATION:HI
CATEGORIES:Fire and Cloud Company
ORGANIZER;CN="Aslan's Place Ministry":MAILTO:office@aslansplace.com
END:VEVENT
BEGIN:VEVENT
DTSTART;TZID=Pacific/Honolulu:20260718T150000
DTEND;TZID=Pacific/Honolulu:20260718T170000
DTSTAMP:20260420T164106
CREATED:20260420T220313Z
LAST-MODIFIED:20260420T220852Z
UID:10000685-1784386800-1784394000@aslansplace.com
SUMMARY:Fire and Cloud Online Meeting
DESCRIPTION:The Fire and Cloud Company is a unique online fellowship held via Zoom and hosted by Paul L. Cox and Barbara Kain Parker. These gatherings provide an opportunity to worship together\, receive teaching\, and grow in the Lord. \nEach meeting is Spirit-led and unfolds according to what the Holy Spirit directs. Participants can expect heartfelt prayer\, encouragement\, and the sharing of spiritual gifts\, as well as teaching and revelation that help prepare us for future training and healing centers. These meetings also offer opportunities to build relationships with other Christ-minded people. \nTo accommodate various time zones\, monthly sessions are held on two different days and at different times. \n\nHonolulu\, USA meeting start time: Saturday 3PM\nLos Angeles\, USA meeting start time: Saturday 6PM\nNew York\, USA meeting start time: Saturday 9PM\nMexico City\, Mexico meeting start time: Saturday 7PM\nVancouver\, Canada meeting start time: Saturday 6PM\nToronto\, Canada meeting start time: Saturday 9PM\nClick here to see start times in additional time zones\n\nActive subscribers are welcome to join either or both sessions. \nParticipation is based on a monthly paid subscription. You may cancel at any time\, though we are unable to provide refunds for partial months. \n \n\n 
URL:https://aslansplace.com/singleevent/fire-and-cloud-online-meeting-071826/
LOCATION:HI
CATEGORIES:Fire and Cloud Company
ORGANIZER;CN="Aslan's Place Ministry":MAILTO:office@aslansplace.com
END:VEVENT
END:VCALENDAR