BEGIN:VCALENDAR
VERSION:2.0
PRODID:-//Aslan&#039;s Place - ECPv6.15.20//NONSGML v1.0//EN
CALSCALE:GREGORIAN
METHOD:PUBLISH
X-WR-CALNAME:Aslan&#039;s Place
X-ORIGINAL-URL:https://aslansplace.com
X-WR-CALDESC:Events for Aslan&#039;s Place
REFRESH-INTERVAL;VALUE=DURATION:PT1H
X-Robots-Tag:noindex
X-PUBLISHED-TTL:PT1H
BEGIN:VTIMEZONE
TZID:America/Los_Angeles
BEGIN:DAYLIGHT
TZOFFSETFROM:-0800
TZOFFSETTO:-0700
TZNAME:PDT
DTSTART:20220313T100000
END:DAYLIGHT
BEGIN:STANDARD
TZOFFSETFROM:-0700
TZOFFSETTO:-0800
TZNAME:PST
DTSTART:20221106T090000
END:STANDARD
BEGIN:DAYLIGHT
TZOFFSETFROM:-0800
TZOFFSETTO:-0700
TZNAME:PDT
DTSTART:20230312T100000
END:DAYLIGHT
BEGIN:STANDARD
TZOFFSETFROM:-0700
TZOFFSETTO:-0800
TZNAME:PST
DTSTART:20231105T090000
END:STANDARD
BEGIN:DAYLIGHT
TZOFFSETFROM:-0800
TZOFFSETTO:-0700
TZNAME:PDT
DTSTART:20240310T100000
END:DAYLIGHT
BEGIN:STANDARD
TZOFFSETFROM:-0700
TZOFFSETTO:-0800
TZNAME:PST
DTSTART:20241103T090000
END:STANDARD
END:VTIMEZONE
BEGIN:VEVENT
DTSTART;TZID=America/Los_Angeles:20230722T100000
DTEND;TZID=America/Los_Angeles:20230722T170000
DTSTAMP:20260424T130208
CREATED:20230607T213401Z
LAST-MODIFIED:20230607T213401Z
UID:10000231-1690020000-1690045200@aslansplace.com
SUMMARY:Discernment Exploration and Coaching via Zoom
DESCRIPTION:This event is online only. \nThis Holy Spirit led workshop\, facilitated by Paul L. Cox\, will guide you in exploring the frontiers of your discernment and help confirm what you are discerning. \nOur goal is to help fine tune your discernment and to help you develop your understanding of the biblical meaning of the aspects of God\, the spiritual beings and spiritual entities you are discerning.
URL:https://aslansplace.com/singleevent/discernmentjuly2023/
LOCATION:CA
CATEGORIES:Discernment Exploration and Coaching
ORGANIZER;CN="Aslan's Place Ministry":MAILTO:office@aslansplace.com
END:VEVENT
END:VCALENDAR